BEGIN:VCALENDAR
VERSION:2.0
PRODID:-//TYPO3/NONSGML News system (news)//EN
BEGIN:VEVENT
UID:news-10271@www.cddcasa.fr
DTSTAMP:20260420T150515
DTSTART:20260514T083000
DTEND:20260514T170000
SUMMARY:Braderie de printemps à Golfe-Juan
CATEGORIES:MARCHÉ
DESCRIPTION:La Braderie de printemps à Golfe-Juan, une journée 
 conviviale entre bonnes affaires, vide-boutiques et ambiance 
 festive en plein cœur du centre-ville.
END:VEVENT
END:VCALENDAR