BEGIN:VCALENDAR
VERSION:2.0
PRODID:-//TYPO3/NONSGML News system (news)//EN
BEGIN:VEVENT
UID:news-10250@www.cddcasa.fr
DTSTAMP:20260420T104946
DTSTART:20260503T090000
DTEND:20260503T170000
SUMMARY:L'Oeuvre des Pupilles a 100 ans en 2026
CATEGORIES:SPORT
DESCRIPTION:Pour fêter cet anniversaire, une grande journée de fête 
 est organisée sur le stade du Fort Carré le dimanche 3 mai 
 de 9h à 17h. Au programmes de nombreuses animations toute 
 la journée, des activités sportives, des démonstrations 
 et des expositions.  Si vous souhaitez participer au 
 tournoi de beach volley, téléchargez le flyer ici et 
 renvoyez le à l'adresse mail indiquée en bas Si vous 
 souhaitez&hellip;
LOCATION:Fort Carré
END:VEVENT
END:VCALENDAR